{"text_format":"3","workbook":"xlsx","n_sheets":1,"sheets":["тестовый"],"not_rendered":{"external_links":1},"read":"whole","date_system":"1900"}

{"sheet":"тестовый","index":0,"n_rows":85,"n_cols":17,"rows_kept":85,"merged":[[0,0,0,16]]}
["Протокол по итогам муниципального этапа ВсОШ по предмету \"АНГЛИЙСКИЙ ЯЗЫК\"  Менделеевского муниципального района в 2019-2020 учебном году "]
["№ п/п","Муниципалитет","Полное наименование образовательного учреждения (по уставу)","Фамилия","Имя","Отчество","Класс","Дата рождения","Пол","Балл","Апеляционный балл","Итоговый балл","Максимальный балл","Статус","Фамилия, имя, отчество педагога, подготовившего участника олимпиады","Полное наименование образовательного учреждения (по уставу)","Предмет"]
[1,"Менделеевский",{"$f":"[1]тестовый!C10","v":"МБОУ \"Тураевская СОШ\""},{"$f":"[1]тестовый!D10","v":"Хикматов"},{"$f":"[1]тестовый!E10","v":"Алмаз"},null,{"$f":"[1]тестовый!G10","v":4},null,{"$f":"[1]тестовый!I10","v":"м"},{"$f":"[1]тестовый!J10","v":45},{"$f":"[1]тестовый!K10","v":0},{"$f":"[1]тестовый!L10","v":45},{"$f":"[1]тестовый!M10","v":69},{"$f":"[1]тестовый!N10","v":"победитель"},{"$f":"[1]тестовый!O10","v":"Хабибуллина Г.К."},{"$f":"[1]тестовый!P10","v":"МБОУ \"Тураевская СОШ\""},{"$f":"[1]тестовый!Q10","v":"английский"}]
[2,"Менделеевский",{"$f":"[1]тестовый!C3","v":"МБОУ \"Гимназия№1\""},{"$f":"[1]тестовый!D3","v":"Переин"},{"$f":"[1]тестовый!E3","v":"Эмиль"},null,{"$f":"[1]тестовый!G3","v":4},null,{"$f":"[1]тестовый!I3","v":"м"},{"$f":"[1]тестовый!J3","v":37},{"$f":"[1]тестовый!K3","v":0},{"$f":"[1]тестовый!L3","v":37},{"$f":"[1]тестовый!M3","v":69},{"$f":"[1]тестовый!N3","v":"призер"},{"$f":"[1]тестовый!O3","v":"Багаутдинова Э.Г."},{"$f":"[1]тестовый!P3","v":"МБОУ \"Гимназия №1\""},{"$f":"[1]тестовый!Q3","v":"английский"}]
[3,"Менделеевский",{"$f":"[1]тестовый!C4","v":"МБОУ \"Гимназия№1\""},{"$f":"[1]тестовый!D4","v":"Ситникова"},{"$f":"[1]тестовый!E4","v":"Виктория"},null,{"$f":"[1]тестовый!G4","v":4},null,{"$f":"[1]тестовый!I4","v":"ж"},{"$f":"[1]тестовый!J4","v":37},{"$f":"[1]тестовый!K4","v":0},{"$f":"[1]тестовый!L4","v":37},{"$f":"[1]тестовый!M4","v":69},{"$f":"[1]тестовый!N4","v":"призер"},{"$f":"[1]тестовый!O4","v":"Багаутдинова Э.Г."},{"$f":"[1]тестовый!P4","v":"МБОУ \"Гимназия №1\""},{"$f":"[1]тестовый!Q4","v":"английский"}]
[4,"Менделеевский",{"$f":"[1]тестовый!C5","v":"МБОУ \"СОШ №7\""},{"$f":"[1]тестовый!D5","v":"Гумирова "},{"$f":"[1]тестовый!E5","v":"Язиля"},null,{"$f":"[1]тестовый!G5","v":4},null,{"$f":"[1]тестовый!I5","v":"ж"},{"$f":"[1]тестовый!J5","v":17},{"$f":"[1]тестовый!K5","v":0},{"$f":"[1]тестовый!L5","v":17},{"$f":"[1]тестовый!M5","v":69},{"$f":"[1]тестовый!N5","v":"участник"},{"$f":"[1]тестовый!O5","v":"Буланова У.В."},{"$f":"[1]тестовый!P5","v":"МБОУ \"СОШ №7\""},{"$f":"[1]тестовый!Q5","v":"английский"}]
[5,"Менделеевский",{"$f":"[1]тестовый!C6","v":"МБОУ \"СОШ №7\""},{"$f":"[1]тестовый!D6","v":"Ваструкова "},{"$f":"[1]тестовый!E6","v":"Мирослава"},null,{"$f":"[1]тестовый!G6","v":4},null,{"$f":"[1]тестовый!I6","v":"ж"},{"$f":"[1]тестовый!J6","v":15},{"$f":"[1]тестовый!K6","v":0},{"$f":"[1]тестовый!L6","v":15},{"$f":"[1]тестовый!M6","v":69},{"$f":"[1]тестовый!N6","v":"участник"},{"$f":"[1]тестовый!O6","v":"Буланова У.В."},{"$f":"[1]тестовый!P6","v":"МБОУ \"СОШ №7\""},{"$f":"[1]тестовый!Q6","v":"английский"}]
[6,"Менделеевский",{"$f":"[1]тестовый!C7","v":"МБОУ \"СОШ №7\""},{"$f":"[1]тестовый!D7","v":"Низамов"},{"$f":"[1]тестовый!E7","v":"Дамир"},null,{"$f":"[1]тестовый!G7","v":4},null,{"$f":"[1]тестовый!I7","v":"м"},{"$f":"[1]тестовый!J7","v":15},{"$f":"[1]тестовый!K7","v":0},{"$f":"[1]тестовый!L7","v":15},{"$f":"[1]тестовый!M7","v":69},{"$f":"[1]тестовый!N7","v":"участник"},{"$f":"[1]тестовый!O7","v":"Буланова У.В."},{"$f":"[1]тестовый!P7","v":"МБОУ \"СОШ №7\""},{"$f":"[1]тестовый!Q7","v":"английский"}]
[7,"Менделеевский",{"$f":"[1]тестовый!C8","v":"МБОУ \"СОШ №3\""},{"$f":"[1]тестовый!D8","v":"Ходалов"},{"$f":"[1]тестовый!E8","v":"Никита"},null,{"$f":"[1]тестовый!G8","v":4},null,{"$f":"[1]тестовый!I8","v":"м"},{"$f":"[1]тестовый!J8","v":28},{"$f":"[1]тестовый!K8","v":0},{"$f":"[1]тестовый!L8","v":28},{"$f":"[1]тестовый!M8","v":69},{"$f":"[1]тестовый!N8","v":"участник"},{"$f":"[1]тестовый!O8","v":"Петрова М.А."},{"$f":"[1]тестовый!P8","v":"МБОУ СОШ №3"},{"$f":"[1]тестовый!Q8","v":"английский"}]
[8,"Менделеевский",{"$f":"[1]тестовый!C9","v":"МБОУ \"СОШ №3\""},{"$f":"[1]тестовый!D9","v":"Музлова"},{"$f":"[1]тестовый!E9","v":"Полина"},null,{"$f":"[1]тестовый!G9","v":4},null,{"$f":"[1]тестовый!I9","v":"ж"},{"$f":"[1]тестовый!J9","v":28},{"$f":"[1]тестовый!K9","v":0},{"$f":"[1]тестовый!L9","v":28},{"$f":"[1]тестовый!M9","v":69},{"$f":"[1]тестовый!N9","v":"участник"},{"$f":"[1]тестовый!O9","v":"Петрова М.А."},{"$f":"[1]тестовый!P9","v":"МБОУ СОШ №3"},{"$f":"[1]тестовый!Q9","v":"английский"}]
[9,"Менделеевский",{"$f":"[1]тестовый!C11","v":"МБОУ \"СОШ №1\""},{"$f":"[1]тестовый!D11","v":"Мансуров "},{"$f":"[1]тестовый!E11","v":"Азиз"},null,{"$f":"[1]тестовый!G11","v":4},null,{"$f":"[1]тестовый!I11","v":"м"},{"$f":"[1]тестовый!J11","v":30},{"$f":"[1]тестовый!K11","v":0},{"$f":"[1]тестовый!L11","v":30},{"$f":"[1]тестовый!M11","v":69},{"$f":"[1]тестовый!N11","v":"участник"},{"$f":"[1]тестовый!O11","v":"Власенкова Е.М."},{"$f":"[1]тестовый!P11","v":"МБОУ \"СОШ №1\""},{"$f":"[1]тестовый!Q11","v":"английский"}]
[10,"Менделеевский",{"$f":"[1]тестовый!C12","v":"МБОУ \"СОШ №1\""},{"$f":"[1]тестовый!D12","v":"Камалиева "},{"$f":"[1]тестовый!E12","v":"Зарина"},null,{"$f":"[1]тестовый!G12","v":4},null,{"$f":"[1]тестовый!I12","v":"ж"},{"$f":"[1]тестовый!J12","v":26},{"$f":"[1]тестовый!K12","v":0},{"$f":"[1]тестовый!L12","v":26},{"$f":"[1]тестовый!M12","v":69},{"$f":"[1]тестовый!N12","v":"участник"},{"$f":"[1]тестовый!O12","v":"Маева Т.С."},{"$f":"[1]тестовый!P12","v":"МБОУ \"СОШ №1\""},{"$f":"[1]тестовый!Q12","v":"английский"}]
[11,"Менделеевский",{"$f":"[1]тестовый!C13","v":"МБОУ \"СОШ №1\""},{"$f":"[1]тестовый!D13","v":"Залялов "},{"$f":"[1]тестовый!E13","v":"Амир "},null,{"$f":"[1]тестовый!G13","v":4},null,{"$f":"[1]тестовый!I13","v":"м"},{"$f":"[1]тестовый!J13","v":16},{"$f":"[1]тестовый!K13","v":0},{"$f":"[1]тестовый!L13","v":16},{"$f":"[1]тестовый!M13","v":69},{"$f":"[1]тестовый!N13","v":"участник"},{"$f":"[1]тестовый!O13","v":"Власенкова Е.М."},{"$f":"[1]тестовый!P13","v":"МБОУ \"СОШ №1\""},{"$f":"[1]тестовый!Q13","v":"английский"}]
[12,"Менделеевский",{"$f":"[1]тестовый!C14","v":"МБОУ \"СОШ №1\""},{"$f":"[1]тестовый!D14","v":"Галиев "},{"$f":"[1]тестовый!E14","v":"Алтын"},null,{"$f":"[1]тестовый!G14","v":4},null,{"$f":"[1]тестовый!I14","v":"м"},{"$f":"[1]тестовый!J14","v":20},{"$f":"[1]тестовый!K14","v":0},{"$f":"[1]тестовый!L14","v":20},{"$f":"[1]тестовый!M14","v":69},{"$f":"[1]тестовый!N14","v":"участник"},{"$f":"[1]тестовый!O14","v":"Галиева А.А."},{"$f":"[1]тестовый!P14","v":"МБОУ \"СОШ №1\""},{"$f":"[1]тестовый!Q14","v":"английский"}]
[13,"Менделеевский",{"$f":"[1]тестовый!C15","v":"МБОУ \"СОШ №1\""},{"$f":"[1]тестовый!D15","v":"Рагинова"},{"$f":"[1]тестовый!E15","v":"Ирина"},null,{"$f":"[1]тестовый!G15","v":4},null,{"$f":"[1]тестовый!I15","v":"ж"},{"$f":"[1]тестовый!J15","v":23},{"$f":"[1]тестовый!K15","v":0},{"$f":"[1]тестовый!L15","v":23},{"$f":"[1]тестовый!M15","v":69},{"$f":"[1]тестовый!N15","v":"участник"},{"$f":"[1]тестовый!O15","v":"Галиева А.А."},{"$f":"[1]тестовый!P15","v":"МБОУ \"СОШ №1\""},{"$f":"[1]тестовый!Q15","v":"английский"}]
[14,"Менделеевский",{"$f":"[1]тестовый!C26","v":"МБОУ \"СОШ №1\""},{"$f":"[1]тестовый!D26","v":"Губайдуллин "},{"$f":"[1]тестовый!E26","v":"Марк "},null,{"$f":"[1]тестовый!G26","v":"5Б"},null,{"$f":"[1]тестовый!I26","v":"м"},{"$f":"[1]тестовый!J26","v":67},{"$f":"[1]тестовый!K26","v":0},{"$f":"[1]тестовый!L26","v":67},{"$f":"[1]тестовый!M26","v":79},{"$f":"[1]тестовый!N26","v":"победитель"},{"$f":"[1]тестовый!O26","v":"Власенкова Е.М."},{"$f":"[1]тестовый!P26","v":"МБОУ \"СОШ №1\""},{"$f":"[1]тестовый!Q26","v":"английский"}]
[15,"Менделеевский",{"$f":"[1]тестовый!C25","v":"МБОУ \"Тихоновская СОШ\""},{"$f":"[1]тестовый!D25","v":"Рэйс"},{"$f":"[1]тестовый!E25","v":"Роберт Давид"},null,{"$f":"[1]тестовый!G25","v":5},null,{"$f":"[1]тестовый!I25","v":"м"},{"$f":"[1]тестовый!J25","v":65},{"$f":"[1]тестовый!K25","v":0},{"$f":"[1]тестовый!L25","v":65},{"$f":"[1]тестовый!M25","v":79},{"$f":"[1]тестовый!N25","v":"призер"},{"$f":"[1]тестовый!O25","v":"Смирнова А.Г."},{"$f":"[1]тестовый!P25","v":"МБОУ \"Тихоновская СОШ\""},{"$f":"[1]тестовый!Q25","v":"английский"}]
[16,"Менделеевский",{"$f":"[1]тестовый!C27","v":"МБОУ \"СОШ №1\""},{"$f":"[1]тестовый!D27","v":"Шишкина"},{"$f":"[1]тестовый!E27","v":"Евгения "},null,{"$f":"[1]тестовый!G27","v":"5Б"},null,{"$f":"[1]тестовый!I27","v":"ж"},{"$f":"[1]тестовый!J27","v":40},{"$f":"[1]тестовый!K27","v":0},{"$f":"[1]тестовый!L27","v":40},{"$f":"[1]тестовый!M27","v":79},{"$f":"[1]тестовый!N27","v":"призер"},{"$f":"[1]тестовый!O27","v":"Власенков И.В."},{"$f":"[1]тестовый!P27","v":"МБОУ \"СОШ №1\""},{"$f":"[1]тестовый!Q27","v":"английский"}]
[17,{"$f":"[1]тестовый!B16","v":"Менделеевский"},{"$f":"[1]тестовый!C16","v":"МБОУ \"Ижевская СОШ\""},{"$f":"[1]тестовый!D16","v":"Уфимцева"},{"$f":"[1]тестовый!E16","v":"Софья"},null,{"$f":"[1]тестовый!G16","v":5},null,{"$f":"[1]тестовый!I16","v":"ж"},{"$f":"[1]тестовый!J16","v":18},{"$f":"[1]тестовый!K16","v":0},{"$f":"[1]тестовый!L16","v":18},{"$f":"[1]тестовый!M16","v":79},{"$f":"[1]тестовый!N16","v":"участник"},{"$f":"[1]тестовый!O16","v":"Салахова Ю.М."},{"$f":"[1]тестовый!P16","v":"МБОУ \"Ижевская СОШ\""},{"$f":"[1]тестовый!Q16","v":"английский"}]
[18,"Менделеевский",{"$f":"[1]тестовый!C17","v":"МБОУ \"Гимназия№1\""},{"$f":"[1]тестовый!D17","v":"Кузнецова "},{"$f":"[1]тестовый!E17","v":"Полина"},null,{"$f":"[1]тестовый!G17","v":5},null,{"$f":"[1]тестовый!I17","v":"ж"},{"$f":"[1]тестовый!J17","v":36},{"$f":"[1]тестовый!K17","v":0},{"$f":"[1]тестовый!L17","v":36},{"$f":"[1]тестовый!M17","v":79},{"$f":"[1]тестовый!N17","v":"участник"},{"$f":"[1]тестовый!O17","v":"Павлова И.П."},{"$f":"[1]тестовый!P17","v":"МБОУ \"Гимназия №1\""},{"$f":"[1]тестовый!Q17","v":"английский"}]
[19,"Менделеевский",{"$f":"[1]тестовый!C18","v":"МБОУ \"СОШ №4\""},{"$f":"[1]тестовый!D18","v":"Красильникова"},{"$f":"[1]тестовый!E18","v":"Ульяна"},null,{"$f":"[1]тестовый!G18","v":5},null,{"$f":"[1]тестовый!I18","v":"ж"},{"$f":"[1]тестовый!J18","v":21},{"$f":"[1]тестовый!K18","v":0},{"$f":"[1]тестовый!L18","v":21},{"$f":"[1]тестовый!M18","v":79},{"$f":"[1]тестовый!N18","v":"участник"},{"$f":"[1]тестовый!O18","v":"Абударова И.А."},{"$f":"[1]тестовый!P18","v":"МБОУ \"СОШ №4\""},{"$f":"[1]тестовый!Q18","v":"английский"}]
[20,"Менделеевский",{"$f":"[1]тестовый!C19","v":"МБОУ \"Гимназия№1\"М"},{"$f":"[1]тестовый!D19","v":"Мансуров"},{"$f":"[1]тестовый!E19","v":"Марат"},null,{"$f":"[1]тестовый!G19","v":5},null,{"$f":"[1]тестовый!I19","v":"м"},{"$f":"[1]тестовый!J19","v":17},{"$f":"[1]тестовый!K19","v":0},{"$f":"[1]тестовый!L19","v":17},{"$f":"[1]тестовый!M19","v":79},{"$f":"[1]тестовый!N19","v":"участник"},{"$f":"[1]тестовый!O19","v":"Павлова И.П."},{"$f":"[1]тестовый!P19","v":"МБОУ \"Гимназия №1\""},{"$f":"[1]тестовый!Q19","v":"английский"}]
[21,"Менделеевский",{"$f":"[1]тестовый!C20","v":"МБОУ \"Гимназия№1\""},{"$f":"[1]тестовый!D20","v":"Саттаров "},{"$f":"[1]тестовый!E20","v":"Нияз"},null,{"$f":"[1]тестовый!G20","v":5},null,{"$f":"[1]тестовый!I20","v":"м"},{"$f":"[1]тестовый!J20","v":38},{"$f":"[1]тестовый!K20","v":0},{"$f":"[1]тестовый!L20","v":38},{"$f":"[1]тестовый!M20","v":79},{"$f":"[1]тестовый!N20","v":"участник"},{"$f":"[1]тестовый!O20","v":"Павлова И.П."},{"$f":"[1]тестовый!P20","v":"МБОУ \"Гимназия №1\""},{"$f":"[1]тестовый!Q20","v":"английский"}]
[22,"Менделеевский",{"$f":"[1]тестовый!C21","v":"МБОУ \"СОШ №3\""},{"$f":"[1]тестовый!D21","v":"Соколова"},{"$f":"[1]тестовый!E21","v":"Анастасия "},null,{"$f":"[1]тестовый!G21","v":5},null,{"$f":"[1]тестовый!I21","v":"ж"},{"$f":"[1]тестовый!J21","v":9},{"$f":"[1]тестовый!K21","v":0},{"$f":"[1]тестовый!L21","v":9},{"$f":"[1]тестовый!M21","v":79},{"$f":"[1]тестовый!N21","v":"участник"},{"$f":"[1]тестовый!O21","v":"Климовская В. Р."},{"$f":"[1]тестовый!P21","v":"МБОУ СОШ №3"},{"$f":"[1]тестовый!Q21","v":"английский"}]
[23,"Менделеевский",{"$f":"[1]тестовый!C22","v":"МБОУ \"СОШ №3\""},{"$f":"[1]тестовый!D22","v":"Арсланова"},{"$f":"[1]тестовый!E22","v":"Илона"},null,{"$f":"[1]тестовый!G22","v":5},null,{"$f":"[1]тестовый!I22","v":"ж"},{"$f":"[1]тестовый!J22","v":12},{"$f":"[1]тестовый!K22","v":0},{"$f":"[1]тестовый!L22","v":12},{"$f":"[1]тестовый!M22","v":79},{"$f":"[1]тестовый!N22","v":"участник"},{"$f":"[1]тестовый!O22","v":"Климовская В. Р."},{"$f":"[1]тестовый!P22","v":"МБОУ СОШ №3"},{"$f":"[1]тестовый!Q22","v":"английский"}]
[24,"Менделеевский",{"$f":"[1]тестовый!C24","v":"МБОУ \"СОШ №3\""},{"$f":"[1]тестовый!D24","v":"Митрофанова "},{"$f":"[1]тестовый!E24","v":"Милена"},null,{"$f":"[1]тестовый!G24","v":5},null,{"$f":"[1]тестовый!I24","v":"ж"},{"$f":"[1]тестовый!J24","v":11},{"$f":"[1]тестовый!K24","v":0},{"$f":"[1]тестовый!L24","v":11},{"$f":"[1]тестовый!M24","v":79},{"$f":"[1]тестовый!N24","v":"участник"},{"$f":"[1]тестовый!O24","v":"Казачкова М.А."},{"$f":"[1]тестовый!P24","v":"МБОУ СОШ №3"},{"$f":"[1]тестовый!Q24","v":"английский"}]
[{"$f":"[1]тестовый!A28","v":26},{"$f":"[1]тестовый!B28","v":"Менделеевский"},{"$f":"[1]тестовый!C28","v":"МБОУ \"СОШ №1\""},{"$f":"[1]тестовый!D28","v":"Гарифуллина "},{"$f":"[1]тестовый!E28","v":"Алсу"},null,{"$f":"[1]тестовый!G28","v":"5Г"},null,{"$f":"[1]тестовый!I28","v":"ж"},{"$f":"[1]тестовый!J28","v":28},{"$f":"[1]тестовый!K28","v":0},{"$f":"[1]тестовый!L28","v":28},{"$f":"[1]тестовый!M28","v":79},{"$f":"[1]тестовый!N28","v":"участник"},{"$f":"[1]тестовый!O28","v":"Маева Т.С."},{"$f":"[1]тестовый!P28","v":"МБОУ \"СОШ №1\""},{"$f":"[1]тестовый!Q28","v":"английский"}]
[26,"Менделеевский",{"$f":"[1]тестовый!C32","v":"МБОУ СОШ №3"},{"$f":"[1]тестовый!D32","v":"Белова"},{"$f":"[1]тестовый!E32","v":"Вероника"},null,{"$f":"[1]тестовый!G32","v":6},null,{"$f":"[1]тестовый!I32","v":"ж"},{"$f":"[1]тестовый!J32","v":42},{"$f":"[1]тестовый!K32","v":0},{"$f":"[1]тестовый!L32","v":42},{"$f":"[1]тестовый!M32","v":79},{"$f":"[1]тестовый!N32","v":"призер"},{"$f":"[1]тестовый!O32","v":"Казачкова М.А."},{"$f":"[1]тестовый!P32","v":"МБОУ СОШ №3"},{"$f":"[1]тестовый!Q32","v":"английский"}]
[27,"Менделеевский",{"$f":"[1]тестовый!C33","v":"МБОУ СОШ №3"},{"$f":"[1]тестовый!D33","v":"Гараева"},{"$f":"[1]тестовый!E33","v":"Эльвина"},null,{"$f":"[1]тестовый!G33","v":6},null,{"$f":"[1]тестовый!I33","v":"ж"},{"$f":"[1]тестовый!J33","v":49},{"$f":"[1]тестовый!K33","v":0},{"$f":"[1]тестовый!L33","v":49},{"$f":"[1]тестовый!M33","v":79},{"$f":"[1]тестовый!N33","v":"призер"},{"$f":"[1]тестовый!O33","v":"Казачкова М.А."},{"$f":"[1]тестовый!P33","v":"МБОУ СОШ №3"},{"$f":"[1]тестовый!Q33","v":"английский"}]
[28,"Менделеевский",{"$f":"[1]тестовый!C34","v":"МБОУ СОШ №3"},{"$f":"[1]тестовый!D34","v":"Хасанова"},{"$f":"[1]тестовый!E34","v":"Рената"},null,{"$f":"[1]тестовый!G34","v":6},null,{"$f":"[1]тестовый!I34","v":"ж"},{"$f":"[1]тестовый!J34","v":38},{"$f":"[1]тестовый!K34","v":0},{"$f":"[1]тестовый!L34","v":38},{"$f":"[1]тестовый!M34","v":79},{"$f":"[1]тестовый!N34","v":"участник"},{"$f":"[1]тестовый!O34","v":"Петрова М.А."},{"$f":"[1]тестовый!P34","v":"МБОУ СОШ №3"},{"$f":"[1]тестовый!Q34","v":"английский"}]
[29,"Менделеевский",{"$f":"[1]тестовый!C35","v":"МБОУ СОШ №3"},{"$f":"[1]тестовый!D35","v":"Халитов"},{"$f":"[1]тестовый!E35","v":"Радмир"},null,{"$f":"[1]тестовый!G35","v":6},null,{"$f":"[1]тестовый!I35","v":"м"},{"$f":"[1]тестовый!J35","v":38},{"$f":"[1]тестовый!K35","v":0},{"$f":"[1]тестовый!L35","v":38},{"$f":"[1]тестовый!M35","v":79},{"$f":"[1]тестовый!N35","v":"участник"},{"$f":"[1]тестовый!O35","v":"Петрова М.А."},{"$f":"[1]тестовый!P35","v":"МБОУ СОШ №3"},{"$f":"[1]тестовый!Q35","v":"английский"}]
[30,"Менделеевский",{"$f":"[1]тестовый!C36","v":"МБОУ \"СОШ №1\""},{"$f":"[1]тестовый!D36","v":"Костин"},{"$f":"[1]тестовый!E36","v":"Никита"},null,{"$f":"[1]тестовый!G36","v":"6В"},null,{"$f":"[1]тестовый!I36","v":"м"},{"$f":"[1]тестовый!J36","v":19},{"$f":"[1]тестовый!K36","v":0},{"$f":"[1]тестовый!L36","v":19},{"$f":"[1]тестовый!M36","v":79},{"$f":"[1]тестовый!N36","v":"участник"},{"$f":"[1]тестовый!O36","v":"Гайнетдинова Г.А."},{"$f":"[1]тестовый!P36","v":"МБОУ \"СОШ №1\""},{"$f":"[1]тестовый!Q36","v":"английский"}]
[31,"Менделеевский",{"$f":"[1]тестовый!C37","v":"МБОУ \"СОШ №1\""},{"$f":"[1]тестовый!D37","v":"Ерохина"},{"$f":"[1]тестовый!E37","v":"Юлия "},null,{"$f":"[1]тестовый!G37","v":"6В"},null,{"$f":"[1]тестовый!I37","v":"ж"},{"$f":"[1]тестовый!J37","v":32},{"$f":"[1]тестовый!K37","v":0},{"$f":"[1]тестовый!L37","v":32},{"$f":"[1]тестовый!M37","v":79},{"$f":"[1]тестовый!N37","v":"участник"},{"$f":"[1]тестовый!O37","v":"Гайнетдинова Г.А."},{"$f":"[1]тестовый!P37","v":"МБОУ \"СОШ №1\""},{"$f":"[1]тестовый!Q37","v":"английский"}]
[32,"Менделеевский",{"$f":"[1]тестовый!C38","v":"МБОУ \"СОШ №1\""},{"$f":"[1]тестовый!D38","v":"Назаров "},{"$f":"[1]тестовый!E38","v":"Максим"},null,{"$f":"[1]тестовый!G38","v":"6Б"},null,{"$f":"[1]тестовый!I38","v":"м"},{"$f":"[1]тестовый!J38","v":35},{"$f":"[1]тестовый!K38","v":0},{"$f":"[1]тестовый!L38","v":35},{"$f":"[1]тестовый!M38","v":79},{"$f":"[1]тестовый!N38","v":"участник"},{"$f":"[1]тестовый!O38","v":"Гайнетдинова Г.А."},{"$f":"[1]тестовый!P38","v":"МБОУ \"СОШ №1\""},{"$f":"[1]тестовый!Q38","v":"английский"}]
[33,"Менделеевский",{"$f":"[1]тестовый!C39","v":"МБОУ \"СОШ №1\""},{"$f":"[1]тестовый!D39","v":"Журавлева"},{"$f":"[1]тестовый!E39","v":"Карина"},null,{"$f":"[1]тестовый!G39","v":"6А"},null,{"$f":"[1]тестовый!I39","v":"ж"},{"$f":"[1]тестовый!J39","v":21},{"$f":"[1]тестовый!K39","v":0},{"$f":"[1]тестовый!L39","v":21},{"$f":"[1]тестовый!M39","v":79},{"$f":"[1]тестовый!N39","v":"участник"},{"$f":"[1]тестовый!O39","v":"Закиев Р.Р."},{"$f":"[1]тестовый!P39","v":"МБОУ \"СОШ №1\""},{"$f":"[1]тестовый!Q39","v":"английский"}]
[34,"Менделеевский",{"$f":"[1]тестовый!C40","v":"МБОУ \"Гимназия№1\""},{"$f":"[1]тестовый!D40","v":"Мессеева"},{"$f":"[1]тестовый!E40","v":"Ника"},null,{"$f":"[1]тестовый!G40","v":7},null,{"$f":"[1]тестовый!I40","v":"ж"},{"$f":"[1]тестовый!J40","v":51},{"$f":"[1]тестовый!K40","v":0},{"$f":"[1]тестовый!L40","v":51},{"$f":"[1]тестовый!M40","v":120},{"$f":"[1]тестовый!N40","v":"участник"},{"$f":"[1]тестовый!O40","v":"Павлова И.П."},{"$f":"[1]тестовый!P40","v":"МБОУ \"Гимназия №1\""},{"$f":"[1]тестовый!Q40","v":"английский"}]
[35,"Менделеевский",{"$f":"[1]тестовый!C41","v":"МБОУ \"Гимназия№1\""},{"$f":"[1]тестовый!D41","v":"АхметзяноваАлия"},{"$f":"[1]тестовый!E41","v":"Алия"},null,{"$f":"[1]тестовый!G41","v":7},null,{"$f":"[1]тестовый!I41","v":"ж"},{"$f":"[1]тестовый!J41","v":41},{"$f":"[1]тестовый!K41","v":0},{"$f":"[1]тестовый!L41","v":41},{"$f":"[1]тестовый!M41","v":120},{"$f":"[1]тестовый!N41","v":"участник"},{"$f":"[1]тестовый!O41","v":"Павлова И.П."},{"$f":"[1]тестовый!P41","v":"МБОУ \"Гимназия №1\""},{"$f":"[1]тестовый!Q41","v":"английский"}]
[36,"Менделеевский",{"$f":"[1]тестовый!C42","v":"МБОУ \"Гимназия№1\""},{"$f":"[1]тестовый!D42","v":"Нургалеева"},{"$f":"[1]тестовый!E42","v":"Ралина"},null,{"$f":"[1]тестовый!G42","v":7},null,{"$f":"[1]тестовый!I42","v":"ж"},{"$f":"[1]тестовый!J42","v":51},{"$f":"[1]тестовый!K42","v":0},{"$f":"[1]тестовый!L42","v":51},{"$f":"[1]тестовый!M42","v":120},{"$f":"[1]тестовый!N42","v":"участник"},{"$f":"[1]тестовый!O42","v":"Павлова И.П."},{"$f":"[1]тестовый!P42","v":"МБОУ \"Гимназия №1\""},"английский"]
[37,"Менделеевский",{"$f":"[1]тестовый!C43","v":"МБОУ \"Гимназия№1\""},{"$f":"[1]тестовый!D43","v":"АнисимоваМилена"},{"$f":"[1]тестовый!E43","v":"Милена"},null,{"$f":"[1]тестовый!G43","v":7},null,{"$f":"[1]тестовый!I43","v":"ж"},{"$f":"[1]тестовый!J43","v":20},{"$f":"[1]тестовый!K43","v":0},{"$f":"[1]тестовый!L43","v":20},{"$f":"[1]тестовый!M43","v":120},{"$f":"[1]тестовый!N43","v":"участник"},{"$f":"[1]тестовый!O43","v":"Павлова И.П."},{"$f":"[1]тестовый!P43","v":"МБОУ \"Гимназия №1\""},{"$f":"[1]тестовый!Q43","v":"английский"}]
[38,"Менделеевский",{"$f":"[1]тестовый!C44","v":"МБОУ СОШ №3"},{"$f":"[1]тестовый!D44","v":"Васильев"},{"$f":"[1]тестовый!E44","v":"Дамир"},null,{"$f":"[1]тестовый!G44","v":7},null,{"$f":"[1]тестовый!I44","v":"м"},{"$f":"[1]тестовый!J44","v":21},{"$f":"[1]тестовый!K44","v":0},{"$f":"[1]тестовый!L44","v":21},{"$f":"[1]тестовый!M44","v":120},{"$f":"[1]тестовый!N44","v":"участник"},{"$f":"[1]тестовый!O44","v":"Петрова М.А."},{"$f":"[1]тестовый!P44","v":"МБОУ СОШ №3"},{"$f":"[1]тестовый!Q44","v":"английский"}]
[39,"Менделеевский",{"$f":"[1]тестовый!C45","v":"МБОУ СОШ №3"},{"$f":"[1]тестовый!D45","v":"Алексеева"},{"$f":"[1]тестовый!E45","v":"Полина"},null,{"$f":"[1]тестовый!G45","v":7},null,{"$f":"[1]тестовый!I45","v":"ж"},{"$f":"[1]тестовый!J45","v":12},{"$f":"[1]тестовый!K45","v":0},{"$f":"[1]тестовый!L45","v":12},{"$f":"[1]тестовый!M45","v":120},{"$f":"[1]тестовый!N45","v":"участник"},{"$f":"[1]тестовый!O45","v":"Петрова М.А."},{"$f":"[1]тестовый!P45","v":"МБОУ СОШ №3"},{"$f":"[1]тестовый!Q45","v":"английский"}]
[40,"Менделеевский",{"$f":"[1]тестовый!C46","v":"МБОУ \"СОШ №1\""},{"$f":"[1]тестовый!D46","v":"Мельников "},{"$f":"[1]тестовый!E46","v":"Виктор"},null,{"$f":"[1]тестовый!G46","v":"7 г"},null,{"$f":"[1]тестовый!I46","v":"м"},{"$f":"[1]тестовый!J46","v":42},{"$f":"[1]тестовый!K46","v":0},{"$f":"[1]тестовый!L46","v":42},{"$f":"[1]тестовый!M46","v":120},{"$f":"[1]тестовый!N46","v":"участник"},{"$f":"[1]тестовый!O46","v":"Галиева А.А."},{"$f":"[1]тестовый!P46","v":"МБОУ \"СОШ №1\""},{"$f":"[1]тестовый!Q46","v":"английский"}]
[41,"Менделеевский",{"$f":"[1]тестовый!C47","v":"МБОУ \"СОШ №1\""},{"$f":"[1]тестовый!D47","v":"Колпаков"},{"$f":"[1]тестовый!E47","v":"Эдуард"},null,{"$f":"[1]тестовый!G47","v":"7 г"},null,{"$f":"[1]тестовый!I47","v":"м"},{"$f":"[1]тестовый!J47","v":42},{"$f":"[1]тестовый!K47","v":0},{"$f":"[1]тестовый!L47","v":42},{"$f":"[1]тестовый!M47","v":120},{"$f":"[1]тестовый!N47","v":"участник"},{"$f":"[1]тестовый!O47","v":"Власенков И.В."},{"$f":"[1]тестовый!P47","v":"МБОУ \"СОШ №1\""},{"$f":"[1]тестовый!Q47","v":"английский"}]
[42,"Менделеевский",{"$f":"[1]тестовый!C48","v":"МБОУ \"СОШ №1\""},{"$f":"[1]тестовый!D48","v":"Макарова"},{"$f":"[1]тестовый!E48","v":"Александра"},null,{"$f":"[1]тестовый!G48","v":"7 г"},null,{"$f":"[1]тестовый!I48","v":"ж"},{"$f":"[1]тестовый!J48","v":20},{"$f":"[1]тестовый!K48","v":0},{"$f":"[1]тестовый!L48","v":20},{"$f":"[1]тестовый!M48","v":120},{"$f":"[1]тестовый!N48","v":"участник"},{"$f":"[1]тестовый!O48","v":"Власенкова Е.М."},{"$f":"[1]тестовый!P48","v":"МБОУ \"СОШ №1\""},{"$f":"[1]тестовый!Q48","v":"английский"}]
[43,{"$f":"[1]тестовый!B56","v":"Менделеевский"},{"$f":"[1]тестовый!C56","v":"МБОУ \"Тихоновская СОШ\""},{"$f":"[1]тестовый!D56","v":"Рэйс "},{"$f":"[1]тестовый!E56","v":"Артур Иосия"},null,{"$f":"[1]тестовый!G56","v":8},null,{"$f":"[1]тестовый!I56","v":"м"},{"$f":"[1]тестовый!J56","v":105},{"$f":"[1]тестовый!K56","v":0},{"$f":"[1]тестовый!L56","v":105},{"$f":"[1]тестовый!M56","v":120},{"$f":"[1]тестовый!N56","v":"победитель"},{"$f":"[1]тестовый!O56","v":"Смирнова А.Г."},{"$f":"[1]тестовый!P56","v":"МБОУ \"Тихоновская СОШ\""},{"$f":"[1]тестовый!Q56","v":"английский"}]
[44,"Менделеевский",{"$f":"[1]тестовый!C57","v":"МБОУ \"Тихоновская СОШ\""},{"$f":"[1]тестовый!D57","v":"Рэйс"},{"$f":"[1]тестовый!E57","v":"Эдурд Захария"},null,{"$f":"[1]тестовый!G57","v":8},null,{"$f":"[1]тестовый!I57","v":"м"},{"$f":"[1]тестовый!J57","v":95},{"$f":"[1]тестовый!K57","v":0},{"$f":"[1]тестовый!L57","v":95},{"$f":"[1]тестовый!M57","v":120},{"$f":"[1]тестовый!N57","v":"призер"},{"$f":"[1]тестовый!O57","v":"Смирнова А.Г."},{"$f":"[1]тестовый!P57","v":"МБОУ \"Тихоновская СОШ\""},{"$f":"[1]тестовый!Q57","v":"английский "}]
[45,"Менделеевский",{"$f":"[1]тестовый!C49","v":"МБОУ \"Гимназия№1\""},{"$f":"[1]тестовый!D49","v":"Ростова"},{"$f":"[1]тестовый!E49","v":"Эвелина"},null,{"$f":"[1]тестовый!G49","v":8},null,{"$f":"[1]тестовый!I49","v":"ж"},{"$f":"[1]тестовый!J49","v":69},{"$f":"[1]тестовый!K49","v":0},{"$f":"[1]тестовый!L49","v":69},{"$f":"[1]тестовый!M49","v":120},{"$f":"[1]тестовый!N49","v":"призер"},{"$f":"[1]тестовый!O49","v":"Павлова И.П."},{"$f":"[1]тестовый!P49","v":"МБОУ \"Гимназия №1\""},{"$f":"[1]тестовый!Q49","v":"английский"}]
[46,"Менделеевский",{"$f":"[1]тестовый!C50","v":"МБОУ \"Гимназия№1\""},{"$f":"[1]тестовый!D50","v":"Садыкова"},{"$f":"[1]тестовый!E50","v":"Камилла"},null,{"$f":"[1]тестовый!G50","v":8},null,{"$f":"[1]тестовый!I50","v":"ж"},{"$f":"[1]тестовый!J50","v":69},{"$f":"[1]тестовый!K50","v":0},{"$f":"[1]тестовый!L50","v":69},{"$f":"[1]тестовый!M50","v":120},{"$f":"[1]тестовый!N50","v":"призер"},{"$f":"[1]тестовый!O50","v":"Павлова И.П."},{"$f":"[1]тестовый!P50","v":"МБОУ \"Гимназия №1\""},{"$f":"[1]тестовый!Q50","v":"английский"}]
[47,"Менделеевский",{"$f":"[1]тестовый!C54","v":"МБОУ \"Гимназия№1\""},{"$f":"[1]тестовый!D54","v":"Калягина"},{"$f":"[1]тестовый!E54","v":"Яна"},null,{"$f":"[1]тестовый!G54","v":8},null,{"$f":"[1]тестовый!I54","v":"ж"},{"$f":"[1]тестовый!J54","v":65},{"$f":"[1]тестовый!K54","v":0},{"$f":"[1]тестовый!L54","v":65},{"$f":"[1]тестовый!M54","v":120},{"$f":"[1]тестовый!N54","v":"призер"},{"$f":"[1]тестовый!O54","v":"Павлова И.П."},{"$f":"[1]тестовый!P54","v":"МБОУ \"Гимназия №1\""},{"$f":"[1]тестовый!Q54","v":0}]
[48,"Менделеевский",{"$f":"[1]тестовый!C51","v":"МБОУ \"Ильнетская СОШ имени Микая (Герасимова М.С.)\""},{"$f":"[1]тестовый!D51","v":"Андреева "},{"$f":"[1]тестовый!E51","v":"Аделина"},null,{"$f":"[1]тестовый!G51","v":8},null,{"$f":"[1]тестовый!I51","v":"ж"},{"$f":"[1]тестовый!J51","v":21},{"$f":"[1]тестовый!K51","v":0},{"$f":"[1]тестовый!L51","v":21},{"$f":"[1]тестовый!M51","v":120},{"$f":"[1]тестовый!N51","v":"участник"},{"$f":"[1]тестовый!O51","v":"Павлова Л.А."},{"$f":"[1]тестовый!P51","v":"МБОУ \"Ильнетская СОШ имени Микая (Герасимова М.С.)\""},{"$f":"[1]тестовый!Q51","v":"английский"}]
[49,"Менделеевский",{"$f":"[1]тестовый!C52","v":"МБОУ \"Монашевская СОШ\""},{"$f":"[1]тестовый!D52","v":"Павлова "},{"$f":"[1]тестовый!E52","v":"Злата"},null,{"$f":"[1]тестовый!G52","v":8},null,{"$f":"[1]тестовый!I52","v":"ж"},{"$f":"[1]тестовый!J52","v":21},{"$f":"[1]тестовый!K52","v":0},{"$f":"[1]тестовый!L52","v":21},{"$f":"[1]тестовый!M52","v":120},{"$f":"[1]тестовый!N52","v":"участник"},{"$f":"[1]тестовый!O52","v":"Павлова Л.А."},{"$f":"[1]тестовый!P52","v":"МБОУ \"Монашевская СОШ\""},{"$f":"[1]тестовый!Q52","v":"английский"}]
[50,"Менделеевский",{"$f":"[1]тестовый!C53","v":"МБОУ \"Псеевская СОШ\""},{"$f":"[1]тестовый!D53","v":"Шириева "},{"$f":"[1]тестовый!E53","v":"Эльвина"},null,{"$f":"[1]тестовый!G53","v":8},null,{"$f":"[1]тестовый!I53","v":"ж"},{"$f":"[1]тестовый!J53","v":10},{"$f":"[1]тестовый!K53","v":0},{"$f":"[1]тестовый!L53","v":10},{"$f":"[1]тестовый!M53","v":120},{"$f":"[1]тестовый!N53","v":"участник"},{"$f":"[1]тестовый!O53","v":"Гилязова Ф.Г."},{"$f":"[1]тестовый!P53","v":"МБОУ \"Псеевская СОШ\""},{"$f":"[1]тестовый!Q53","v":"английский"}]
[51,"Менделеевский",{"$f":"[1]тестовый!C55","v":"МБОУ СОШ №3"},{"$f":"[1]тестовый!D55","v":"Полева"},{"$f":"[1]тестовый!E55","v":"Лиана"},null,{"$f":"[1]тестовый!G55","v":8},null,{"$f":"[1]тестовый!I55","v":"ж"},{"$f":"[1]тестовый!J55","v":43},{"$f":"[1]тестовый!K55","v":0},{"$f":"[1]тестовый!L55","v":43},{"$f":"[1]тестовый!M55","v":120},{"$f":"[1]тестовый!N55","v":"участник"},{"$f":"[1]тестовый!O55","v":"Смирнова А.Г."},{"$f":"[1]тестовый!P55","v":"МБОУ \"СОШ №3\""},{"$f":"[1]тестовый!Q55","v":"английский"}]
[52,"Менделеевский",{"$f":"[1]тестовый!C58","v":"МБОУ \"СОШ №1\""},{"$f":"[1]тестовый!D58","v":"Снигирева"},{"$f":"[1]тестовый!E58","v":"Дарья"},null,{"$f":"[1]тестовый!G58","v":"8 г"},null,{"$f":"[1]тестовый!I58","v":"ж"},{"$f":"[1]тестовый!J58","v":16},{"$f":"[1]тестовый!K58","v":0},{"$f":"[1]тестовый!L58","v":16},{"$f":"[1]тестовый!M58","v":120},{"$f":"[1]тестовый!N58","v":"участник"},{"$f":"[1]тестовый!O58","v":"Маева Т.С."},{"$f":"[1]тестовый!P58","v":"МБОУ \"СОШ №1\""},{"$f":"[1]тестовый!Q58","v":"английский"}]
[53,"Менделеевский",{"$f":"[1]тестовый!C59","v":"МБОУ \"СОШ №1\""},{"$f":"[1]тестовый!D59","v":"Муллахметов"},{"$f":"[1]тестовый!E59","v":"Даниф"},null,{"$f":"[1]тестовый!G59","v":"8 г"},null,{"$f":"[1]тестовый!I59","v":"м"},{"$f":"[1]тестовый!J59","v":48},{"$f":"[1]тестовый!K59","v":0},{"$f":"[1]тестовый!L59","v":48},{"$f":"[1]тестовый!M59","v":120},{"$f":"[1]тестовый!N59","v":"участник"},{"$f":"[1]тестовый!O59","v":"Маева Т.С."},{"$f":"[1]тестовый!P59","v":"МБОУ \"СОШ №1\""},{"$f":"[1]тестовый!Q59","v":"английский"}]
[54,"Менделеевский",{"$f":"[1]тестовый!C60","v":"МБОУ \"СОШ №1\""},{"$f":"[1]тестовый!D60","v":"Михляев"},{"$f":"[1]тестовый!E60","v":"Сергей"},null,{"$f":"[1]тестовый!G60","v":"8 б"},null,{"$f":"[1]тестовый!I60","v":"м"},{"$f":"[1]тестовый!J60","v":43},{"$f":"[1]тестовый!K60","v":0},{"$f":"[1]тестовый!L60","v":43},{"$f":"[1]тестовый!M60","v":120},{"$f":"[1]тестовый!N60","v":"участник"},{"$f":"[1]тестовый!O60","v":"Галиева А.А."},{"$f":"[1]тестовый!P60","v":"МБОУ \"СОШ №1\""},{"$f":"[1]тестовый!Q60","v":"английский"}]
[55,"Менделеевский",{"$f":"[1]тестовый!C61","v":"МБОУ \"СОШ №1\""},{"$f":"[1]тестовый!D61","v":"Заболотнова"},{"$f":"[1]тестовый!E61","v":"Евангелина"},null,{"$f":"[1]тестовый!G61","v":"8 б"},null,{"$f":"[1]тестовый!I61","v":"ж"},{"$f":"[1]тестовый!J61","v":21},{"$f":"[1]тестовый!K61","v":0},{"$f":"[1]тестовый!L61","v":21},{"$f":"[1]тестовый!M61","v":120},{"$f":"[1]тестовый!N61","v":"участник"},{"$f":"[1]тестовый!O61","v":"Галиева А.А."},{"$f":"[1]тестовый!P61","v":"МБОУ \"СОШ №1\""},{"$f":"[1]тестовый!Q61","v":"английский"}]
[56,{"$f":"[1]тестовый!B63","v":"Менделеевский"},{"$f":"[1]тестовый!C63","v":"МБОУ \"СОШ №1\""},{"$f":"[1]тестовый!D63","v":"Бикбулатов"},{"$f":"[1]тестовый!E63","v":"Адель"},null,{"$f":"[1]тестовый!G63","v":9},null,{"$f":"[1]тестовый!I63","v":"м"},{"$f":"[1]тестовый!J63","v":75},{"$f":"[1]тестовый!K63","v":0},{"$f":"[1]тестовый!L63","v":75},{"$f":"[1]тестовый!M63","v":125},{"$f":"[1]тестовый!N63","v":"призер"},{"$f":"[1]тестовый!O63","v":"Власенков И.В."},{"$f":"[1]тестовый!P63","v":"МБОУ \"СОШ №1\""},{"$f":"[1]тестовый!Q63","v":"английский"}]
[57,{"$f":"[1]тестовый!B64","v":"Менделеевский"},{"$f":"[1]тестовый!C62","v":"МБОУ \"Гимназия№1\""},{"$f":"[1]тестовый!D62","v":"Миннизянова Лиля"},{"$f":"[1]тестовый!E62","v":"Лия"},null,{"$f":"[1]тестовый!G62","v":9},null,{"$f":"[1]тестовый!I62","v":"ж"},{"$f":"[1]тестовый!J62","v":22},{"$f":"[1]тестовый!K62","v":0},{"$f":"[1]тестовый!L62","v":22},{"$f":"[1]тестовый!M62","v":125},{"$f":"[1]тестовый!N62","v":"участник"},{"$f":"[1]тестовый!O62","v":"Павлова И.П."},{"$f":"[1]тестовый!P62","v":"МБОУ \"Гимназия №1\""},{"$f":"[1]тестовый!Q62","v":"английский"}]
[58,{"$f":"[1]тестовый!B65","v":"Менделеевский"},{"$f":"[1]тестовый!C64","v":"МБОУ \"Гимназия№1\""},{"$f":"[1]тестовый!D64","v":"Девликамов"},{"$f":"[1]тестовый!E64","v":"Ренард"},null,{"$f":"[1]тестовый!G64","v":10},null,{"$f":"[1]тестовый!I64","v":"м"},{"$f":"[1]тестовый!J64","v":83},{"$f":"[1]тестовый!K64","v":0},{"$f":"[1]тестовый!L64","v":83},{"$f":"[1]тестовый!M64","v":125},{"$f":"[1]тестовый!N64","v":"призер"},{"$f":"[1]тестовый!O64","v":"Павлова И.П."},{"$f":"[1]тестовый!P64","v":"МБОУ \"Гимназия №1\""},{"$f":"[1]тестовый!Q64","v":"английский"}]
[59,{"$f":"[1]тестовый!B66","v":"Менделеевский"},{"$f":"[1]тестовый!C76","v":"МБОУ \"Ижевская СОШ\""},{"$f":"[1]тестовый!D76","v":"Шамсутдинова"},{"$f":"[1]тестовый!E76","v":"Гульназ"},null,{"$f":"[1]тестовый!G76","v":10},null,{"$f":"[1]тестовый!I76","v":"ж"},{"$f":"[1]тестовый!J76","v":71},{"$f":"[1]тестовый!K76","v":0},{"$f":"[1]тестовый!L76","v":71},{"$f":"[1]тестовый!M76","v":125},{"$f":"[1]тестовый!N76","v":"призер"},{"$f":"[1]тестовый!O76","v":"Салахова Ю.М."},{"$f":"[1]тестовый!P76","v":"МБОУ \"Ижевская СОШ\""},{"$f":"[1]тестовый!Q76","v":"английский"}]
[60,{"$f":"[1]тестовый!B67","v":"Менделеевский"},{"$f":"[1]тестовый!C73","v":"МБОУ \"СОШ №1\""},{"$f":"[1]тестовый!D73","v":"Коньков"},{"$f":"[1]тестовый!E73","v":"Николай"},null,{"$f":"[1]тестовый!G73","v":10},null,{"$f":"[1]тестовый!I73","v":"м"},{"$f":"[1]тестовый!J73","v":64},{"$f":"[1]тестовый!K73","v":0},{"$f":"[1]тестовый!L73","v":64},{"$f":"[1]тестовый!M73","v":125},{"$f":"[1]тестовый!N73","v":"призер"},{"$f":"[1]тестовый!O73","v":"Власенкова Е.М."},{"$f":"[1]тестовый!P73","v":"МБОУ \"СОШ №1\""},{"$f":"[1]тестовый!Q77","v":"английский"}]
[61,{"$f":"[1]тестовый!B68","v":"Менделеевский"},{"$f":"[1]тестовый!C65","v":"МБОУ \"Гимназия№1\""},{"$f":"[1]тестовый!D65","v":"Стороган "},{"$f":"[1]тестовый!E65","v":"Луиза"},null,{"$f":"[1]тестовый!G65","v":10},null,{"$f":"[1]тестовый!I65","v":"ж"},{"$f":"[1]тестовый!J65","v":62},{"$f":"[1]тестовый!K65","v":0},{"$f":"[1]тестовый!L65","v":62},{"$f":"[1]тестовый!M65","v":125},"призер",{"$f":"[1]тестовый!O65","v":"Павлова И.П."},{"$f":"[1]тестовый!P65","v":"МБОУ \"Гимназия №1\""},{"$f":"[1]тестовый!Q78","v":"английский"}]
[62,{"$f":"[1]тестовый!B69","v":"Менделеевский"},{"$f":"[1]тестовый!C66","v":"МБОУ \"Гимназия№1\""},{"$f":"[1]тестовый!D66","v":"Сабирова"},{"$f":"[1]тестовый!E66","v":"Элина"},null,{"$f":"[1]тестовый!G66","v":10},null,{"$f":"[1]тестовый!I66","v":"ж"},{"$f":"[1]тестовый!J66","v":43},{"$f":"[1]тестовый!K66","v":0},{"$f":"[1]тестовый!L66","v":43},{"$f":"[1]тестовый!M66","v":125},{"$f":"[1]тестовый!N66","v":"участник"},{"$f":"[1]тестовый!O66","v":"Павлова И.П."},{"$f":"[1]тестовый!P66","v":"МБОУ \"Гимназия №1\""},{"$f":"[1]тестовый!Q79","v":"английский"}]
[63,{"$f":"[1]тестовый!B70","v":"Менделеевский"},{"$f":"[1]тестовый!C68","v":"МБОУ \"Монашевская СОШ\""},{"$f":"[1]тестовый!D68","v":"Курихина"},{"$f":"[1]тестовый!E68","v":"Анастасия"},null,{"$f":"[1]тестовый!G68","v":10},null,{"$f":"[1]тестовый!I68","v":"ж"},{"$f":"[1]тестовый!J68","v":6},{"$f":"[1]тестовый!K68","v":0},{"$f":"[1]тестовый!L68","v":6},{"$f":"[1]тестовый!M68","v":125},{"$f":"[1]тестовый!N68","v":"участник"},{"$f":"[1]тестовый!O68","v":"Иванова А.С."},{"$f":"[1]тестовый!P68","v":"МБОУ \"Монашевская СОШ\""},{"$f":"[1]тестовый!Q80","v":"английский"}]
[64,{"$f":"[1]тестовый!B71","v":"Менделеевский"},{"$f":"[1]тестовый!C69","v":"МБОУ \"СОШ №2\""},{"$f":"[1]тестовый!D69","v":"Мухамадеева"},{"$f":"[1]тестовый!E69","v":"Ангелина"},null,{"$f":"[1]тестовый!G69","v":10},null,{"$f":"[1]тестовый!I69","v":"ж"},{"$f":"[1]тестовый!J69","v":30},{"$f":"[1]тестовый!K69","v":0},{"$f":"[1]тестовый!L69","v":30},{"$f":"[1]тестовый!M69","v":125},{"$f":"[1]тестовый!N69","v":"участник"},{"$f":"[1]тестовый!O69","v":"Тарасов Р.С."},{"$f":"[1]тестовый!P69","v":"МБОУ \"СОШ №2\""},{"$f":"[1]тестовый!Q81","v":"английский"}]
[65,{"$f":"[1]тестовый!B72","v":"Менделеевский"},{"$f":"[1]тестовый!C70","v":"МБОУ СОШ №3"},{"$f":"[1]тестовый!D70","v":"Данилова"},{"$f":"[1]тестовый!E70","v":"Екатерина"},null,{"$f":"[1]тестовый!G70","v":10},null,{"$f":"[1]тестовый!I70","v":"ж"},{"$f":"[1]тестовый!J70","v":36},{"$f":"[1]тестовый!K70","v":0},{"$f":"[1]тестовый!L70","v":36},{"$f":"[1]тестовый!M70","v":125},{"$f":"[1]тестовый!N70","v":"участник"},{"$f":"[1]тестовый!O70","v":"Казачкова М.А."},{"$f":"[1]тестовый!P70","v":"МБОУ СОШ №3"},{"$f":"[1]тестовый!Q82","v":"английский"}]
[66,{"$f":"[1]тестовый!B73","v":"Менделеевский"},{"$f":"[1]тестовый!C71","v":"МБОУ СОШ №3"},{"$f":"[1]тестовый!D71","v":"Власова"},{"$f":"[1]тестовый!E71","v":"Елена"},null,{"$f":"[1]тестовый!G71","v":10},null,{"$f":"[1]тестовый!I71","v":"ж"},{"$f":"[1]тестовый!J71","v":48},{"$f":"[1]тестовый!K71","v":0},{"$f":"[1]тестовый!L71","v":48},{"$f":"[1]тестовый!M71","v":125},{"$f":"[1]тестовый!N71","v":"участник"},{"$f":"[1]тестовый!O71","v":"Казачкова М.А."},{"$f":"[1]тестовый!P71","v":"МБОУ СОШ №3"},{"$f":"[1]тестовый!Q83","v":"английский"}]
[67,{"$f":"[1]тестовый!B74","v":"Менделеевский"},{"$f":"[1]тестовый!C72","v":"МБОУ \"Тураевская СОШ\""},{"$f":"[1]тестовый!D72","v":"Миннеханова "},{"$f":"[1]тестовый!E72","v":"Алсу"},null,{"$f":"[1]тестовый!G72","v":10},null,{"$f":"[1]тестовый!I72","v":"ж"},{"$f":"[1]тестовый!J72","v":44},{"$f":"[1]тестовый!K72","v":0},{"$f":"[1]тестовый!L72","v":44},{"$f":"[1]тестовый!M72","v":125},{"$f":"[1]тестовый!N72","v":"участник"},{"$f":"[1]тестовый!O72","v":"Хабибуллина Г.К."},{"$f":"[1]тестовый!P72","v":"МБОУ \"Тураевская СОШ\""},{"$f":"[1]тестовый!Q84","v":"английский"}]
[68,{"$f":"[1]тестовый!B75","v":"Менделеевский"},{"$f":"[1]тестовый!C74","v":"МБОУ \"СОШ №1\""},{"$f":"[1]тестовый!D74","v":"Петрова"},{"$f":"[1]тестовый!E74","v":"Ксения"},null,{"$f":"[1]тестовый!G74","v":10},null,{"$f":"[1]тестовый!I74","v":"ж"},{"$f":"[1]тестовый!J74","v":36},{"$f":"[1]тестовый!K74","v":0},{"$f":"[1]тестовый!L74","v":36},{"$f":"[1]тестовый!M74","v":125},{"$f":"[1]тестовый!N74","v":"участник"},{"$f":"[1]тестовый!O74","v":"Власенкова Е.М."},{"$f":"[1]тестовый!P74","v":"МБОУ \"СОШ №1\""},{"$f":"[1]тестовый!Q85","v":"английский"}]
[69,{"$f":"[1]тестовый!B76","v":"Менделеевский"},{"$f":"[1]тестовый!C75","v":"МБОУ \"СОШ №1\""},{"$f":"[1]тестовый!D75","v":"Паитова"},{"$f":"[1]тестовый!E75","v":"Диана"},null,{"$f":"[1]тестовый!G75","v":10},null,{"$f":"[1]тестовый!I75","v":"ж"},{"$f":"[1]тестовый!J75","v":39},{"$f":"[1]тестовый!K75","v":0},{"$f":"[1]тестовый!L75","v":39},{"$f":"[1]тестовый!M75","v":125},{"$f":"[1]тестовый!N75","v":"участник"},{"$f":"[1]тестовый!O75","v":"Власенкова Е.М."},{"$f":"[1]тестовый!P75","v":"МБОУ \"СОШ №1\""},"английский"]
[70,{"$f":"[1]тестовый!B77","v":"Менделеевский"},{"$f":"[1]тестовый!C85","v":"МБОУ \"СОШ №1\""},{"$f":"[1]тестовый!D85","v":"Полыгалова"},{"$f":"[1]тестовый!E85","v":"Карина"},null,{"$f":"[1]тестовый!G85","v":11},null,{"$f":"[1]тестовый!I85","v":"ж"},{"$f":"[1]тестовый!J85","v":106},{"$f":"[1]тестовый!K85","v":0},{"$f":"[1]тестовый!L85","v":106},{"$f":"[1]тестовый!M85","v":125},{"$f":"[1]тестовый!N85","v":"победитель"},{"$f":"[1]тестовый!O85","v":"Маева Т.С."},{"$f":"[1]тестовый!P85","v":"МБОУ \"СОШ №1\""},"английский"]
[71,{"$f":"[1]тестовый!B78","v":"Менделеевский"},{"$f":"[1]тестовый!C77","v":"МБОУ \"Гимназия№1\""},{"$f":"[1]тестовый!D77","v":"Канахин"},{"$f":"[1]тестовый!E77","v":"Кирилл"},null,{"$f":"[1]тестовый!G77","v":11},null,{"$f":"[1]тестовый!I77","v":"м"},{"$f":"[1]тестовый!J77","v":88},{"$f":"[1]тестовый!K77","v":0},{"$f":"[1]тестовый!L77","v":88},{"$f":"[1]тестовый!M77","v":125},{"$f":"[1]тестовый!N77","v":"призер"},{"$f":"[1]тестовый!O77","v":"Павлова И.П."},{"$f":"[1]тестовый!P77","v":"МБОУ \"Гимназия №1\""},"английский"]
[72,{"$f":"[1]тестовый!B79","v":"Менделеевский"},{"$f":"[1]тестовый!C76","v":"МБОУ \"Ижевская СОШ\""},{"$f":"[1]тестовый!D76","v":"Шамсутдинова"},{"$f":"[1]тестовый!E76","v":"Гульназ"},null,{"$f":"[1]тестовый!G76","v":10},null,{"$f":"[1]тестовый!I76","v":"ж"},{"$f":"[1]тестовый!J76","v":71},{"$f":"[1]тестовый!K76","v":0},{"$f":"[1]тестовый!L76","v":71},{"$f":"[1]тестовый!M76","v":125},{"$f":"[1]тестовый!N76","v":"призер"},{"$f":"[1]тестовый!O76","v":"Салахова Ю.М."},{"$f":"[1]тестовый!P76","v":"МБОУ \"Ижевская СОШ\""},"английский"]
[73,{"$f":"[1]тестовый!B80","v":"Менделеевский"},{"$f":"[1]тестовый!C83","v":"МБОУ \"СОШ №1\""},{"$f":"[1]тестовый!D83","v":"Гильмутдинов"},{"$f":"[1]тестовый!E83","v":"Арслан"},null,{"$f":"[1]тестовый!G83","v":11},null,{"$f":"[1]тестовый!I83","v":"м"},{"$f":"[1]тестовый!J83","v":80},{"$f":"[1]тестовый!K83","v":0},{"$f":"[1]тестовый!L83","v":80},{"$f":"[1]тестовый!M83","v":125},{"$f":"[1]тестовый!N83","v":"призер"},{"$f":"[1]тестовый!O83","v":"Гайнетдинова Г.А."},{"$f":"[1]тестовый!P83","v":"МБОУ \"СОШ №1\""},"английский"]
[74,{"$f":"[1]тестовый!B81","v":"Менделеевский"},{"$f":"[1]тестовый!C84","v":"МБОУ \"СОШ №1\""},{"$f":"[1]тестовый!D84","v":"Лутфуллина "},{"$f":"[1]тестовый!E84","v":"Аделия"},null,{"$f":"[1]тестовый!G84","v":11},null,{"$f":"[1]тестовый!I84","v":"ж"},{"$f":"[1]тестовый!J84","v":68},{"$f":"[1]тестовый!K84","v":0},{"$f":"[1]тестовый!L84","v":68},{"$f":"[1]тестовый!M84","v":125},{"$f":"[1]тестовый!N84","v":"призер"},{"$f":"[1]тестовый!O84","v":"Маева Т.С."},{"$f":"[1]тестовый!P84","v":"МБОУ \"СОШ №1\""},"английский"]
[75,{"$f":"[1]тестовый!B82","v":"Менделеевский"},{"$f":"[1]тестовый!C81","v":"МБОУ СОШ №3"},{"$f":"[1]тестовый!D81","v":"Хубутдинова"},{"$f":"[1]тестовый!E81","v":"Милена"},null,{"$f":"[1]тестовый!G81","v":11},null,{"$f":"[1]тестовый!I81","v":"ж"},{"$f":"[1]тестовый!J81","v":45},{"$f":"[1]тестовый!K81","v":0},{"$f":"[1]тестовый!L81","v":45},{"$f":"[1]тестовый!M81","v":125},{"$f":"[1]тестовый!N81","v":"участник"},{"$f":"[1]тестовый!O81","v":"Петрова М.А."},{"$f":"[1]тестовый!P81","v":"МБОУ \"СОШ №3\""},"английский"]
[76,{"$f":"[1]тестовый!B83","v":"Менделеевский"},{"$f":"[1]тестовый!C82","v":"МБОУ \"СОШ №1\""},{"$f":"[1]тестовый!D82","v":"Анисян"},{"$f":"[1]тестовый!E82","v":"Алина"},null,{"$f":"[1]тестовый!G82","v":11},null,{"$f":"[1]тестовый!I82","v":"ж"},{"$f":"[1]тестовый!J82","v":57},{"$f":"[1]тестовый!K82","v":0},{"$f":"[1]тестовый!L82","v":57},{"$f":"[1]тестовый!M82","v":125},{"$f":"[1]тестовый!N82","v":"участник"},{"$f":"[1]тестовый!O82","v":"Маева Т.С."},{"$f":"[1]тестовый!P82","v":"МБОУ \"СОШ №1\""},"английский"]
[77,{"$f":"[1]тестовый!B84","v":"Менделеевский"},{"$f":"[1]тестовый!C78","v":"МБОУ \"Гимназия№1\""},{"$f":"[1]тестовый!D78","v":"Праздникова"},{"$f":"[1]тестовый!E78","v":"Эльза"},null,{"$f":"[1]тестовый!G78","v":11},null,{"$f":"[1]тестовый!I78","v":"ж"},{"$f":"[1]тестовый!J78","v":48},{"$f":"[1]тестовый!K78","v":0},{"$f":"[1]тестовый!L78","v":48},{"$f":"[1]тестовый!M78","v":125},{"$f":"[1]тестовый!N78","v":"участник"},{"$f":"[1]тестовый!O78","v":"Павлова И.П."},{"$f":"[1]тестовый!P78","v":"МБОУ \"Гимназия №1\""},"английский"]
[78,"Менделеевский","МБОУ \"Гимназия №1\"","Христофорова","Полина",null,11,null,"ж",62,0,62,125,"призер","Павлова И.П.","МБОУ \"Гимназия №1\"","английский"]
[79,"Менделеевский","МБОУ \"Гимназия №1\"","Калмыкова","Полина",null,6,null,"ж",27,0,27,79,"участник","Павлова И.П.","МБОУ \"Гимназия №1\"","английский"]
[80,"Менделеевский","МБОУ \"Гимназия №1\"","Яшин ","Эрик",null,6,null,"м",33,0,33,79,"участник","Павлова И.П.","МБОУ \"Гимназия №1\"","английский"]
[81,"Менделеевский","МБОУ \"Гимназия №1\"","Кашапов","Эльдар",null,6,null,"м",40,0,40,79,"призер","Павлова И.П.","МБОУ \"Гимназия №1\"","английский"]
[82,"Менделеевский","МБОУ \"Гимназия №1\"","Тазиева","Эльвина ",null,10,null,"ж",74,0,74,125,"призер","Павлова И.П.","МБОУ \"Гимназия №1\"","английский"]
[83,"Менделеевский","МБОУ \"Гимназия №1\"","Аракчеева","Анастасия",null,9,null,"ж",50,0,50,125,"участник","Павлова И.П.","МБОУ \"Гимназия №1\"","английский"]